BEGIN:VCALENDAR
VERSION:2.0
PRODID:-//Cultural Autism Studies at Yale - ECPv6.15.20//NONSGML v1.0//EN
CALSCALE:GREGORIAN
METHOD:PUBLISH
X-WR-CALNAME:Cultural Autism Studies at Yale
X-ORIGINAL-URL:https://culturalautismstudiesatyale.space
X-WR-CALDESC:Events for Cultural Autism Studies at Yale
REFRESH-INTERVAL;VALUE=DURATION:PT1H
X-Robots-Tag:noindex
X-PUBLISHED-TTL:PT1H
BEGIN:VTIMEZONE
TZID:America/New_York
BEGIN:DAYLIGHT
TZOFFSETFROM:-0500
TZOFFSETTO:-0400
TZNAME:EDT
DTSTART:20230312T070000
END:DAYLIGHT
BEGIN:STANDARD
TZOFFSETFROM:-0400
TZOFFSETTO:-0500
TZNAME:EST
DTSTART:20231105T060000
END:STANDARD
BEGIN:DAYLIGHT
TZOFFSETFROM:-0500
TZOFFSETTO:-0400
TZNAME:EDT
DTSTART:20240310T070000
END:DAYLIGHT
BEGIN:STANDARD
TZOFFSETFROM:-0400
TZOFFSETTO:-0500
TZNAME:EST
DTSTART:20241103T060000
END:STANDARD
BEGIN:DAYLIGHT
TZOFFSETFROM:-0500
TZOFFSETTO:-0400
TZNAME:EDT
DTSTART:20250309T070000
END:DAYLIGHT
BEGIN:STANDARD
TZOFFSETFROM:-0400
TZOFFSETTO:-0500
TZNAME:EST
DTSTART:20251102T060000
END:STANDARD
END:VTIMEZONE
BEGIN:VEVENT
DTSTART;TZID=America/New_York:20241003T160000
DTEND;TZID=America/New_York:20241003T170000
DTSTAMP:20260423T183939
CREATED:20240917T000931Z
LAST-MODIFIED:20240917T000945Z
UID:389-1727971200-1727974800@culturalautismstudiesatyale.space
SUMMARY:Alternative Communication Monthly Sessions #2
DESCRIPTION:Cultural Autism Studies at Yale (CASY\, the ethnography project led by Dr. Dawn Prince-Hughes) is delighted to welcome Anna Pietraszczyk\, MA on Thursday\, October 3\, 4-5 p.m. EDT. There is no cost to attend\, and international participants are invited to attend. RSVP here to access Zoom link. \nDESCRIPTION: Alternative Communication Monthly Sessions with Anna Pietraszczyk\, MA. Join us for an experimental free fall into the vast beyond of normative forms of communication. We’ll start by looking into the continuous\, ever-present ways in which communication conditions our world. We’ll explore the animal and plant kingdoms\, delve into the universe and the power of movement\, and consider the potency of nothingness. We’ll examine sound\, energy\, verbal and non-verbal acts\, and share our non-normative experiences. These sessions aim to inspire both individual and collective expressions through previously unexplored mediums. Held every first Thursday of the month (with the exception of the first session held 9/12/24). \nBRIEF BIO (provided by the speaker): Anna Pietraszczyk is a neurodivergent educator\, a post-war rebel\, and an emigrant. She is a critical theory enthusiast\, podcaster\, and writer\, and is interested in dialogism\, cultural hybridity\, decoloniality and critical animal studies. She earned a BA in Tourism Management from Manchester Metropolitan University\, followed by an MA in Education for Sustainable Development from the University of Gothenburg. She has traveled globally and is fluent in four languages. In January 2024\, she launched “Tending to Talks\,” a podcast series (https://www.youtube.com/@TendingToTalks) aimed at fostering thoughtful reflection with scholars and writers\, delving into the pressing issues confronting our world today. Anna currently lives in Portugal and plans to host sessions around the areas of education the skill of concealment within neurodivergent families during wartime. \nAbout Cultural Autism Studies at Yale (CASY\, the ethnography project led by Dr. @Dawn Prince-Hughes). An ‘ethnography’ is an exploration of how a group of people express themselves in a cultural way. Autistic people have a growing kind of culture\, and each autistic experience is a vital part of it. Dr. Dawn Prince-Hughes is an anthropologist\, ethnographer\, primatologist\, and author who is autistic. Join her for an exploration of the importance of autistic self-expression and the culture that grows from it. Those who wish to share their content are free to do so on our private Facebook group (see below)\, organically contributing to a growing autistic culture. \nLinks to online events will also be shared on these private Facebook groups: SOCIAL CONNECTIVITY FOR AUTISM (http://tinyurl.com/mrxnxmnc) or CASY Cultural Autism Studies at Yale (http://tinyurl.com/4ckbyut7). \nCREDITS: The preparation of this material was financed under an agreement with the Connecticut Council on Developmental Disabilities (CTCDD). CASY Sparks membership\, activities and events are free. CASY Sparks is sponsored in part by The Daniel Jordan Fiddle Foundation Adult Autism Research Fund\, and a generous gift from the Rosen family\, and the research of Dr. Roger Jou\, including Simons Foundation Powering Autism Research (SPARK) Clinical Site Network – Yale University (https://www.SPARKforAutism.org/Yale).
URL:https://culturalautismstudiesatyale.space/event/alternative-communication-monthly-sessions-2/
END:VEVENT
END:VCALENDAR